BEGIN:VCALENDAR
VERSION:2.0
METHOD:PUBLISH
PRODID:-//imacoda.com//SPD-Web-O-Mat//EN
CALSCALE:GREGORIAN
BEGIN:VTIMEZONE
TZID:Europe/Berlin
BEGIN:DAYLIGHT
TZOFFSETFROM:+0100
RRULE:FREQ=YEARLY;BYMONTH=3;BYDAY=-1SU
DTSTART:19810329T020000
TZNAME:MESZ
TZOFFSETTO:+0200
END:DAYLIGHT
BEGIN:STANDARD
TZOFFSETFROM:+0200
RRULE:FREQ=YEARLY;BYMONTH=10;BYDAY=-1SU
DTSTART:19961027T030000
TZNAME:MEZ
TZOFFSETTO:+0100
END:STANDARD
END:VTIMEZONE
BEGIN:VEVENT
UID:20201201T145551Z-00000553180-LULU@www.bayernspd.de
CREATED:20201201T145551Z
LAST-MODIFIED:20201201T145838Z
DTSTAMP:20201201T145838Z
TRANSP:TRANSPARENT
DTSTART;TZID=Europe/Berlin:20201201T000000
DTEND;TZID=Europe/Berlin:20201201T000000
SUMMARY:Deutschland und die USA: Onlinegespräch zwischen Staatsminister 
 Niels Annen und unserer Bundestagsabgeordneten Bela Bach am 3.12. um 19
 .00
LOCATION:Online: https://www.facebook.com/BelaBachSPD/live/
DESCRIPTION:Termin im Web (SPD Planegg):\nhttps://spd-planegg.de/termine
 /?id=553180
END:VEVENT
END:VCALENDAR
